BEGIN:VCALENDAR
VERSION:2.0
METHOD:PUBLISH
PRODID:-//Telerik Inc.//Sitefinity CMS 14.4//EN
BEGIN:VTIMEZONE
TZID:Pacific Standard Time
BEGIN:STANDARD
DTSTART:20251102T020000
RRULE:FREQ=YEARLY;BYDAY=1SU;BYHOUR=2;BYMINUTE=0;BYMONTH=11
TZNAME:Pacific Standard Time
TZOFFSETFROM:-0700
TZOFFSETTO:-0800
END:STANDARD
BEGIN:DAYLIGHT
DTSTART:20250301T020000
RRULE:FREQ=YEARLY;BYDAY=2SU;BYHOUR=2;BYMINUTE=0;BYMONTH=3
TZNAME:Pacific Daylight Time
TZOFFSETFROM:-0800
TZOFFSETTO:-0700
END:DAYLIGHT
END:VTIMEZONE
BEGIN:VEVENT
DESCRIPTION:Friday\, June 5\, 2026Smithers Christian Reformed ChurchStudent
 s must arrive at the Smithers Christian Reformed Church at 11:30 a.m. for 
 gowns.&nbsp\;Photos begin at 12:00 p.m.Ceremony begins at 1:00 p.m.For mor
 e information visit the Registrar&rsquo\;s Office\, call 1.877.277.2288 ex
 t. 5798 or email&nbsp\;convocation@coastmountaincollege.ca&nbsp\;
DTEND:20260605T220000Z
DTSTAMP:20260422T163522Z
DTSTART:20260605T200000Z
LOCATION:BC\,Canada\,Smithers\,4035 Walnut Dr
SEQUENCE:0
SUMMARY:Convocation 2026 | Smithers
UID:RFCALITEM639124473221558595
X-ALT-DESC;FMTTYPE=text/html:<p>Friday\, June 5\, 2026</p><p>Smithers Chris
 tian Reformed Church</p><p>Students must arrive at the Smithers Christian 
 Reformed Church at 11:30 a.m. for gowns.&nbsp\;</p><p>Photos begin at 12:0
 0 p.m.</p><p>Ceremony begins at 1:00 p.m.</p><p>For more information visit
  the Registrar&rsquo\;s Office\, call 1.877.277.2288 ext. 5798 or email&nb
 sp\;<a href="mailto:convocation@coastmountaincollege.ca">convocation@coast
 mountaincollege.ca</a>&nbsp\;</p>
END:VEVENT
END:VCALENDAR
